BEGIN:VCALENDAR
VERSION:2.0
PRODID:-//hacksw/handcal//NONSGML v1.0//EN
CALSCALE:GREGORIAN
BEGIN:VEVENT
DTEND:20070728T230000Z
UID:69e855e7bd03a
DTSTAMP:20260422T060023Z
LOCATION:0 
DESCRIPTION:
URL;VALUE=URI:
SUMMARY:15. Eisberglauf
DTSTART:20070728T230000Z
END:VEVENT
END:VCALENDAR
An internal server error occurred.