BEGIN:VCALENDAR
VERSION:2.0
PRODID:-//hacksw/handcal//NONSGML v1.0//EN
CALSCALE:GREGORIAN
BEGIN:VEVENT
DTEND:20070728T230000Z
UID:69e87ea7066bb
DTSTAMP:20260422T085415Z
LOCATION:0 
DESCRIPTION:
URL;VALUE=URI:
SUMMARY:8. Bismarckturm - Crosslauf 
DTSTART:20070728T230000Z
END:VEVENT
END:VCALENDAR
An internal server error occurred.