BEGIN:VCALENDAR
VERSION:2.0
PRODID:-//hacksw/handcal//NONSGML v1.0//EN
CALSCALE:GREGORIAN
BEGIN:VEVENT
DTEND:20070727T230000Z
UID:69e8b539ebf2f
DTSTAMP:20260422T124705Z
LOCATION:0 
DESCRIPTION:
URL;VALUE=URI:
SUMMARY:2. Ensinger Lauf-Cup
DTSTART:20070727T230000Z
END:VEVENT
END:VCALENDAR
An internal server error occurred.