BEGIN:VCALENDAR
VERSION:2.0
PRODID:-//hacksw/handcal//NONSGML v1.0//EN
CALSCALE:GREGORIAN
BEGIN:VEVENT
DTEND:20070727T230000Z
UID:69e85f1beeb62
DTSTAMP:20260422T063939Z
LOCATION:0 
DESCRIPTION:
URL;VALUE=URI:
SUMMARY:19. Hiddingseler Volkslauf
DTSTART:20070727T230000Z
END:VEVENT
END:VCALENDAR
An internal server error occurred.