BEGIN:VCALENDAR
VERSION:2.0
PRODID:-//hacksw/handcal//NONSGML v1.0//EN
CALSCALE:GREGORIAN
BEGIN:VEVENT
DTEND:20070726T230000Z
UID:69e8b53cd7a60
DTSTAMP:20260422T124708Z
LOCATION:0 
DESCRIPTION:
URL;VALUE=URI:
SUMMARY:2. Wilbader Stäffeleslauf
DTSTART:20070726T230000Z
END:VEVENT
END:VCALENDAR
An internal server error occurred.