BEGIN:VCALENDAR
VERSION:2.0
PRODID:-//hacksw/handcal//NONSGML v1.0//EN
CALSCALE:GREGORIAN
BEGIN:VEVENT
DTEND:20070726T230000Z
UID:69ecb8040d54b
DTSTAMP:20260425T134804Z
LOCATION:0 
DESCRIPTION:
URL;VALUE=URI:
SUMMARY:10. Alhauser Dreizehnlindenlauf
DTSTART:20070726T230000Z
END:VEVENT
END:VCALENDAR
An internal server error occurred.