BEGIN:VCALENDAR
VERSION:2.0
PRODID:-//hacksw/handcal//NONSGML v1.0//EN
CALSCALE:GREGORIAN
BEGIN:VEVENT
DTEND:20070721T230000Z
UID:69ed715865596
DTSTAMP:20260426T025848Z
LOCATION:0 
DESCRIPTION:
URL;VALUE=URI:
SUMMARY:Sport und Spiel Straßenlauf in Mannheim- 10000m- 5000m- 3000m
DTSTART:20070721T230000Z
END:VEVENT
END:VCALENDAR
An internal server error occurred.