BEGIN:VCALENDAR
VERSION:2.0
PRODID:-//hacksw/handcal//NONSGML v1.0//EN
CALSCALE:GREGORIAN
BEGIN:VEVENT
DTEND:20070721T230000Z
UID:69e82836b4acb
DTSTAMP:20260422T024526Z
LOCATION:0 
DESCRIPTION:
URL;VALUE=URI:
SUMMARY:Halbinsellauf
DTSTART:20070721T230000Z
END:VEVENT
END:VCALENDAR
An internal server error occurred.