BEGIN:VCALENDAR
VERSION:2.0
PRODID:-//hacksw/handcal//NONSGML v1.0//EN
CALSCALE:GREGORIAN
BEGIN:VEVENT
DTEND:20070720T230000Z
UID:69ed1a1332f18
DTSTAMP:20260425T204627Z
LOCATION:0 
DESCRIPTION:
URL;VALUE=URI:
SUMMARY:15. Heidefestlauf Markgrafenheide
DTSTART:20070720T230000Z
END:VEVENT
END:VCALENDAR
An internal server error occurred.