BEGIN:VCALENDAR
VERSION:2.0
PRODID:-//hacksw/handcal//NONSGML v1.0//EN
CALSCALE:GREGORIAN
BEGIN:VEVENT
DTEND:20070720T230000Z
UID:69e92cb9af0ff
DTSTAMP:20260422T211657Z
LOCATION:0 
DESCRIPTION:
URL;VALUE=URI:
SUMMARY:Rund um den Perfstausee mit Walking und Specialolympics-Lauf
DTSTART:20070720T230000Z
END:VEVENT
END:VCALENDAR
An internal server error occurred.