BEGIN:VCALENDAR
VERSION:2.0
PRODID:-//hacksw/handcal//NONSGML v1.0//EN
CALSCALE:GREGORIAN
BEGIN:VEVENT
DTEND:20070720T230000Z
UID:69ed824608350
DTSTAMP:20260426T041102Z
LOCATION:0 
DESCRIPTION:
URL;VALUE=URI:
SUMMARY:40. Int. Volkslauf-Bühlertal- Halbmarathon Start 17:00- Walking / Nordic Walking 9-2km Start 15:00
DTSTART:20070720T230000Z
END:VEVENT
END:VCALENDAR
An internal server error occurred.