BEGIN:VCALENDAR
VERSION:2.0
PRODID:-//hacksw/handcal//NONSGML v1.0//EN
CALSCALE:GREGORIAN
BEGIN:VEVENT
DTEND:20070720T230000Z
UID:69e9bcd0717df
DTSTAMP:20260423T073144Z
LOCATION:0 
DESCRIPTION:
URL;VALUE=URI:
SUMMARY:11. Internationaler Vogter Halbmarathon
DTSTART:20070720T230000Z
END:VEVENT
END:VCALENDAR
An internal server error occurred.