BEGIN:VCALENDAR
VERSION:2.0
PRODID:-//hacksw/handcal//NONSGML v1.0//EN
CALSCALE:GREGORIAN
BEGIN:VEVENT
DTEND:20070720T230000Z
UID:69e972c9dd051
DTSTAMP:20260423T021553Z
LOCATION:0 
DESCRIPTION:
URL;VALUE=URI:
SUMMARY:21. Aalener Stadtlauf
DTSTART:20070720T230000Z
END:VEVENT
END:VCALENDAR
An internal server error occurred.