BEGIN:VCALENDAR
VERSION:2.0
PRODID:-//hacksw/handcal//NONSGML v1.0//EN
CALSCALE:GREGORIAN
BEGIN:VEVENT
DTEND:20070720T230000Z
UID:69e8283307b25
DTSTAMP:20260422T024523Z
LOCATION:0 
DESCRIPTION:
URL;VALUE=URI:
SUMMARY:Fladensteinlauf 
DTSTART:20070720T230000Z
END:VEVENT
END:VCALENDAR
An internal server error occurred.