BEGIN:VCALENDAR
VERSION:2.0
PRODID:-//hacksw/handcal//NONSGML v1.0//EN
CALSCALE:GREGORIAN
BEGIN:VEVENT
DTEND:20070719T230000Z
UID:69e85f1bd880e
DTSTAMP:20260422T063939Z
LOCATION:0 
DESCRIPTION:
URL;VALUE=URI:
SUMMARY:10. Harener Citylauf
DTSTART:20070719T230000Z
END:VEVENT
END:VCALENDAR
An internal server error occurred.