BEGIN:VCALENDAR
VERSION:2.0
PRODID:-//hacksw/handcal//NONSGML v1.0//EN
CALSCALE:GREGORIAN
BEGIN:VEVENT
DTEND:20070718T230000Z
UID:69ed86f3da17f
DTSTAMP:20260426T043059Z
LOCATION:0 
DESCRIPTION:
URL;VALUE=URI:
SUMMARY:9. Oberkolbacher Holger-Nothacker-Gedächnislauf  Benefizlauf für  Kinderklinik Schömberg mit Alb-Nagold-Enz-Cup 4.Lauf
DTSTART:20070718T230000Z
END:VEVENT
END:VCALENDAR
An internal server error occurred.