BEGIN:VCALENDAR
VERSION:2.0
PRODID:-//hacksw/handcal//NONSGML v1.0//EN
CALSCALE:GREGORIAN
BEGIN:VEVENT
DTEND:20070714T230000Z
UID:69e859dbc0b0e
DTSTAMP:20260422T061715Z
LOCATION:0 
DESCRIPTION:
URL;VALUE=URI:
SUMMARY:Vogelsberger Südbahnlauf
DTSTART:20070714T230000Z
END:VEVENT
END:VCALENDAR
An internal server error occurred.