BEGIN:VCALENDAR
VERSION:2.0
PRODID:-//hacksw/handcal//NONSGML v1.0//EN
CALSCALE:GREGORIAN
BEGIN:VEVENT
DTEND:20070714T230000Z
UID:69e8121dc269b
DTSTAMP:20260422T011109Z
LOCATION:0 
DESCRIPTION:
URL;VALUE=URI:
SUMMARY:7. Lauf auf den langen Bergen 
DTSTART:20070714T230000Z
END:VEVENT
END:VCALENDAR
An internal server error occurred.