BEGIN:VCALENDAR
VERSION:2.0
PRODID:-//hacksw/handcal//NONSGML v1.0//EN
CALSCALE:GREGORIAN
BEGIN:VEVENT
DTEND:20070714T230000Z
UID:69e7e688b3aff
DTSTAMP:20260421T220512Z
LOCATION:0 
DESCRIPTION:
URL;VALUE=URI:
SUMMARY:7. Karwendelberglauf
DTSTART:20070714T230000Z
END:VEVENT
END:VCALENDAR
An internal server error occurred.