BEGIN:VCALENDAR
VERSION:2.0
PRODID:-//hacksw/handcal//NONSGML v1.0//EN
CALSCALE:GREGORIAN
BEGIN:VEVENT
DTEND:20070714T230000Z
UID:69e8121c7d417
DTSTAMP:20260422T011108Z
LOCATION:0 
DESCRIPTION:
URL;VALUE=URI:
SUMMARY:18. Runners Point Havellauf 
DTSTART:20070714T230000Z
END:VEVENT
END:VCALENDAR
An internal server error occurred.