BEGIN:VCALENDAR
VERSION:2.0
PRODID:-//hacksw/handcal//NONSGML v1.0//EN
CALSCALE:GREGORIAN
BEGIN:VEVENT
DTEND:20070713T230000Z
UID:69ed6bbdf2c59
DTSTAMP:20260426T023453Z
LOCATION:0 
DESCRIPTION:
URL;VALUE=URI:
SUMMARY:Freiburger LaufNacht in der Innenstadt von Freiburg
DTSTART:20070713T230000Z
END:VEVENT
END:VCALENDAR
An internal server error occurred.