BEGIN:VCALENDAR
VERSION:2.0
PRODID:-//hacksw/handcal//NONSGML v1.0//EN
CALSCALE:GREGORIAN
BEGIN:VEVENT
DTEND:20070713T230000Z
UID:69ed74ae4fb22
DTSTAMP:20260426T031302Z
LOCATION:0 
DESCRIPTION:
URL;VALUE=URI:
SUMMARY:3. Westerwälder NW-Tag zur 9. Walkingtour 2007 und 19. VL 
DTSTART:20070713T230000Z
END:VEVENT
END:VCALENDAR
An internal server error occurred.