BEGIN:VCALENDAR
VERSION:2.0
PRODID:-//hacksw/handcal//NONSGML v1.0//EN
CALSCALE:GREGORIAN
BEGIN:VEVENT
DTEND:20070712T230000Z
UID:69e95699cc27a
DTSTAMP:20260423T001537Z
LOCATION:0 
DESCRIPTION:
URL;VALUE=URI:
SUMMARY:2. Volkslauf  Rund um Süßendell
DTSTART:20070712T230000Z
END:VEVENT
END:VCALENDAR
An internal server error occurred.