BEGIN:VCALENDAR
VERSION:2.0
PRODID:-//hacksw/handcal//NONSGML v1.0//EN
CALSCALE:GREGORIAN
BEGIN:VEVENT
DTEND:20070712T230000Z
UID:69e867e8f072b
DTSTAMP:20260422T071712Z
LOCATION:0 
DESCRIPTION:
URL;VALUE=URI:
SUMMARY:3. Gerdauer - Meilen - Lauf
DTSTART:20070712T230000Z
END:VEVENT
END:VCALENDAR
An internal server error occurred.