BEGIN:VCALENDAR
VERSION:2.0
PRODID:-//hacksw/handcal//NONSGML v1.0//EN
CALSCALE:GREGORIAN
BEGIN:VEVENT
DTEND:20070712T230000Z
UID:69e8122b7b5c3
DTSTAMP:20260422T011123Z
LOCATION:0 
DESCRIPTION:
URL;VALUE=URI:
SUMMARY:De Stuhr Loop
DTSTART:20070712T230000Z
END:VEVENT
END:VCALENDAR
An internal server error occurred.