BEGIN:VCALENDAR
VERSION:2.0
PRODID:-//hacksw/handcal//NONSGML v1.0//EN
CALSCALE:GREGORIAN
BEGIN:VEVENT
DTEND:20070712T230000Z
UID:69e9add831266
DTSTAMP:20260423T062752Z
LOCATION:0 
DESCRIPTION:
URL;VALUE=URI:
SUMMARY:4. Wüstenrot - (L)auf in die Ferien
DTSTART:20070712T230000Z
END:VEVENT
END:VCALENDAR
An internal server error occurred.