BEGIN:VCALENDAR
VERSION:2.0
PRODID:-//hacksw/handcal//NONSGML v1.0//EN
CALSCALE:GREGORIAN
BEGIN:VEVENT
DTEND:20070712T230000Z
UID:69e829c042562
DTSTAMP:20260422T025200Z
LOCATION:0 
DESCRIPTION:
URL;VALUE=URI:
SUMMARY:26. Wehlheider Abendlauf
DTSTART:20070712T230000Z
END:VEVENT
END:VCALENDAR
An internal server error occurred.