BEGIN:VCALENDAR
VERSION:2.0
PRODID:-//hacksw/handcal//NONSGML v1.0//EN
CALSCALE:GREGORIAN
BEGIN:VEVENT
DTEND:20070909T073000Z
UID:69ed45a092ef1
DTSTAMP:20260425T235216Z
LOCATION:8410 Wildon
DESCRIPTION:Kinderläufe von 1100m bis 3300m
Volkslauf 9\,5km
2er-Staffel 8\,5km und 12\,6km

URL;VALUE=URI:
SUMMARY:11. Int. Gigasport-Volkslauf Wildon
DTSTART:20070908T230000Z
END:VEVENT
END:VCALENDAR
An internal server error occurred.