BEGIN:VCALENDAR
VERSION:2.0
PRODID:-//hacksw/handcal//NONSGML v1.0//EN
CALSCALE:GREGORIAN
BEGIN:VEVENT
DTEND:20070712T230000Z
UID:69e7e8e29e746
DTSTAMP:20260421T221514Z
LOCATION:0 
DESCRIPTION:
URL;VALUE=URI:
SUMMARY:Albersweilerer Mitternachtslauf
DTSTART:20070712T230000Z
END:VEVENT
END:VCALENDAR
An internal server error occurred.