BEGIN:VCALENDAR
VERSION:2.0
PRODID:-//hacksw/handcal//NONSGML v1.0//EN
CALSCALE:GREGORIAN
BEGIN:VEVENT
DTEND:20070708T230000Z
UID:69ec1ae603fd2
DTSTAMP:20260425T023742Z
LOCATION:0 
DESCRIPTION:
URL;VALUE=URI:
SUMMARY:bis 13.07.  Marathon über 5 Tage (insgesamt 42-195 Km)
DTSTART:20070708T230000Z
END:VEVENT
END:VCALENDAR
An internal server error occurred.