BEGIN:VCALENDAR
VERSION:2.0
PRODID:-//hacksw/handcal//NONSGML v1.0//EN
CALSCALE:GREGORIAN
BEGIN:VEVENT
DTEND:20070707T230000Z
UID:69eae5edf1f75
DTSTAMP:20260424T043925Z
LOCATION:0 
DESCRIPTION:
URL;VALUE=URI:
SUMMARY:2. Barbarossalauf im Rahmen des 49. Weinfestes
DTSTART:20070707T230000Z
END:VEVENT
END:VCALENDAR
An internal server error occurred.