BEGIN:VCALENDAR
VERSION:2.0
PRODID:-//hacksw/handcal//NONSGML v1.0//EN
CALSCALE:GREGORIAN
BEGIN:VEVENT
DTEND:20070707T230000Z
UID:69e8122410ab1
DTSTAMP:20260422T011116Z
LOCATION:0 
DESCRIPTION:
URL;VALUE=URI:
SUMMARY:KKH-Lauf 2007
DTSTART:20070707T230000Z
END:VEVENT
END:VCALENDAR
An internal server error occurred.