BEGIN:VCALENDAR
VERSION:2.0
PRODID:-//hacksw/handcal//NONSGML v1.0//EN
CALSCALE:GREGORIAN
BEGIN:VEVENT
DTEND:20070707T230000Z
UID:69e812273dc8a
DTSTAMP:20260422T011119Z
LOCATION:0 
DESCRIPTION:
URL;VALUE=URI:
SUMMARY:24. Volkslauf
DTSTART:20070707T230000Z
END:VEVENT
END:VCALENDAR
An internal server error occurred.