BEGIN:VCALENDAR
VERSION:2.0
PRODID:-//hacksw/handcal//NONSGML v1.0//EN
CALSCALE:GREGORIAN
BEGIN:VEVENT
DTEND:20070706T230000Z
UID:69e9883fdd13b
DTSTAMP:20260423T034727Z
LOCATION:0 
DESCRIPTION:
URL;VALUE=URI:
SUMMARY:35. Int. Volkslauf m. Wandern u. Walking
DTSTART:20070706T230000Z
END:VEVENT
END:VCALENDAR
An internal server error occurred.