BEGIN:VCALENDAR
VERSION:2.0
PRODID:-//hacksw/handcal//NONSGML v1.0//EN
CALSCALE:GREGORIAN
BEGIN:VEVENT
DTEND:20070706T230000Z
UID:69e9d40d0bb38
DTSTAMP:20260423T091053Z
LOCATION:0 
DESCRIPTION:
URL;VALUE=URI:
SUMMARY:28. Schauinsland-Berglauf- 13 km HD 957 m
DTSTART:20070706T230000Z
END:VEVENT
END:VCALENDAR
An internal server error occurred.