BEGIN:VCALENDAR
VERSION:2.0
PRODID:-//hacksw/handcal//NONSGML v1.0//EN
CALSCALE:GREGORIAN
BEGIN:VEVENT
DTEND:20070706T230000Z
UID:69ed474e1d9a3
DTSTAMP:20260425T235926Z
LOCATION:0 
DESCRIPTION:
URL;VALUE=URI:
SUMMARY:11. Seefest-Crosslauf für Jedermann >Wildenstein-Fichtenau
DTSTART:20070706T230000Z
END:VEVENT
END:VCALENDAR
An internal server error occurred.