BEGIN:VCALENDAR
VERSION:2.0
PRODID:-//hacksw/handcal//NONSGML v1.0//EN
CALSCALE:GREGORIAN
BEGIN:VEVENT
DTEND:20070706T230000Z
UID:69ed9070ad546
DTSTAMP:20260426T051128Z
LOCATION:0 
DESCRIPTION:
URL;VALUE=URI:
SUMMARY:2. Dotternhausener Plettenberglauf mit 2. AOK Nordic-Walking-Tag
DTSTART:20070706T230000Z
END:VEVENT
END:VCALENDAR
An internal server error occurred.