BEGIN:VCALENDAR
VERSION:2.0
PRODID:-//hacksw/handcal//NONSGML v1.0//EN
CALSCALE:GREGORIAN
BEGIN:VEVENT
DTEND:20070706T230000Z
UID:69e7e3e45567d
DTSTAMP:20260421T215356Z
LOCATION:0 
DESCRIPTION:
URL;VALUE=URI:
SUMMARY:19. Honig Volkslauf mit Walking
DTSTART:20070706T230000Z
END:VEVENT
END:VCALENDAR
An internal server error occurred.