BEGIN:VCALENDAR
VERSION:2.0
PRODID:-//hacksw/handcal//NONSGML v1.0//EN
CALSCALE:GREGORIAN
BEGIN:VEVENT
DTEND:20070706T230000Z
UID:69ed1a2717370
DTSTAMP:20260425T204647Z
LOCATION:0 
DESCRIPTION:
URL;VALUE=URI:
SUMMARY:Berger Lauf Rund um den Wasserturm
DTSTART:20070706T230000Z
END:VEVENT
END:VCALENDAR
An internal server error occurred.