BEGIN:VCALENDAR
VERSION:2.0
PRODID:-//hacksw/handcal//NONSGML v1.0//EN
CALSCALE:GREGORIAN
BEGIN:VEVENT
DTEND:20070705T230000Z
UID:69e7e3e3da403
DTSTAMP:20260421T215355Z
LOCATION:0 
DESCRIPTION:
URL;VALUE=URI:
SUMMARY:4. Drevenacker Abendlauf
DTSTART:20070705T230000Z
END:VEVENT
END:VCALENDAR
An internal server error occurred.