BEGIN:VCALENDAR
VERSION:2.0
PRODID:-//hacksw/handcal//NONSGML v1.0//EN
CALSCALE:GREGORIAN
BEGIN:VEVENT
DTEND:20070705T230000Z
UID:69e7e3e027476
DTSTAMP:20260421T215352Z
LOCATION:0 
DESCRIPTION:
URL;VALUE=URI:
SUMMARY:Dangaster Deichlauf
DTSTART:20070705T230000Z
END:VEVENT
END:VCALENDAR
An internal server error occurred.