BEGIN:VCALENDAR
VERSION:2.0
PRODID:-//hacksw/handcal//NONSGML v1.0//EN
CALSCALE:GREGORIAN
BEGIN:VEVENT
DTEND:20070705T230000Z
UID:69eae9766d88f
DTSTAMP:20260424T045430Z
LOCATION:0 
DESCRIPTION:
URL;VALUE=URI:
SUMMARY:2. Nordic-Walking-Nachtlauf zur Kösseine
DTSTART:20070705T230000Z
END:VEVENT
END:VCALENDAR
An internal server error occurred.