BEGIN:VCALENDAR
VERSION:2.0
PRODID:-//hacksw/handcal//NONSGML v1.0//EN
CALSCALE:GREGORIAN
BEGIN:VEVENT
DTEND:20070705T230000Z
UID:69e823613969a
DTSTAMP:20260422T022449Z
LOCATION:0 
DESCRIPTION:
URL;VALUE=URI:
SUMMARY:Autohaus Hofmann Stadtlauf 
DTSTART:20070705T230000Z
END:VEVENT
END:VCALENDAR
An internal server error occurred.