BEGIN:VCALENDAR
VERSION:2.0
PRODID:-//hacksw/handcal//NONSGML v1.0//EN
CALSCALE:GREGORIAN
BEGIN:VEVENT
DTEND:20070705T230000Z
UID:69e9885c9098e
DTSTAMP:20260423T034756Z
LOCATION:0 
DESCRIPTION:
URL;VALUE=URI:
SUMMARY:14. Feengrottenpokal im Berglaufen  
DTSTART:20070705T230000Z
END:VEVENT
END:VCALENDAR
An internal server error occurred.