BEGIN:VCALENDAR
VERSION:2.0
PRODID:-//hacksw/handcal//NONSGML v1.0//EN
CALSCALE:GREGORIAN
BEGIN:VEVENT
DTEND:20070705T230000Z
UID:69e8122811d34
DTSTAMP:20260422T011120Z
LOCATION:0 
DESCRIPTION:
URL;VALUE=URI:
SUMMARY:18. Büsumer Krabben Lauf/17. Dithmarschen-Cup 2007
DTSTART:20070705T230000Z
END:VEVENT
END:VCALENDAR
An internal server error occurred.