BEGIN:VCALENDAR
VERSION:2.0
PRODID:-//hacksw/handcal//NONSGML v1.0//EN
CALSCALE:GREGORIAN
BEGIN:VEVENT
DTEND:20070703T230000Z
UID:69e9091e5381a
DTSTAMP:20260422T184502Z
LOCATION:0 
DESCRIPTION:
URL;VALUE=URI:
SUMMARY:Zwickauer Stundenlaufserie (4.Lauf)
DTSTART:20070703T230000Z
END:VEVENT
END:VCALENDAR
An internal server error occurred.