BEGIN:VCALENDAR
VERSION:2.0
PRODID:-//hacksw/handcal//NONSGML v1.0//EN
CALSCALE:GREGORIAN
BEGIN:VEVENT
DTEND:20070630T230000Z
UID:69eae5f4b1bd3
DTSTAMP:20260424T043932Z
LOCATION:0 
DESCRIPTION:
URL;VALUE=URI:
SUMMARY:34. Deutschlands West-Zipfel-Marathon- Einzel + Staffel
DTSTART:20070630T230000Z
END:VEVENT
END:VCALENDAR
An internal server error occurred.