BEGIN:VCALENDAR
VERSION:2.0
PRODID:-//hacksw/handcal//NONSGML v1.0//EN
CALSCALE:GREGORIAN
BEGIN:VEVENT
DTEND:20070630T230000Z
UID:69e859e3b1d0d
DTSTAMP:20260422T061723Z
LOCATION:0 
DESCRIPTION:
URL;VALUE=URI:
SUMMARY:7. Apfellauf der Kelterei Heil
DTSTART:20070630T230000Z
END:VEVENT
END:VCALENDAR
An internal server error occurred.