BEGIN:VCALENDAR
VERSION:2.0
PRODID:-//hacksw/handcal//NONSGML v1.0//EN
CALSCALE:GREGORIAN
BEGIN:VEVENT
DTEND:20070630T230000Z
UID:69e9884de7ef2
DTSTAMP:20260423T034741Z
LOCATION:0 
DESCRIPTION:
URL;VALUE=URI:
SUMMARY:7. Volkslauf mit 2. Wildbader Thermenlauf
DTSTART:20070630T230000Z
END:VEVENT
END:VCALENDAR
An internal server error occurred.