BEGIN:VCALENDAR
VERSION:2.0
PRODID:-//hacksw/handcal//NONSGML v1.0//EN
CALSCALE:GREGORIAN
BEGIN:VEVENT
DTEND:20070630T230000Z
UID:69ed7e619cd61
DTSTAMP:20260426T035425Z
LOCATION:0 
DESCRIPTION:
URL;VALUE=URI:
SUMMARY:6. Volk(mar)slauf mit Sommerfest TV Zazenhausen
DTSTART:20070630T230000Z
END:VEVENT
END:VCALENDAR
An internal server error occurred.